BEGIN:VCALENDAR
VERSION:2.0
PRODID:-//Indian Society of Critical Care Medicine - ECPv6.3.0//NONSGML v1.0//EN
CALSCALE:GREGORIAN
METHOD:PUBLISH
X-WR-CALNAME:Indian Society of Critical Care Medicine
X-ORIGINAL-URL:https://isccmbhubaneswar.org
X-WR-CALDESC:Events for Indian Society of Critical Care Medicine
REFRESH-INTERVAL;VALUE=DURATION:PT1H
X-Robots-Tag:noindex
X-PUBLISHED-TTL:PT1H
BEGIN:VTIMEZONE
TZID:Asia/Kolkata
BEGIN:STANDARD
TZOFFSETFROM:+0530
TZOFFSETTO:+0530
TZNAME:IST
DTSTART:20150101T000000
END:STANDARD
END:VTIMEZONE
BEGIN:VEVENT
DTSTART;VALUE=DATE:20221105
DTEND;VALUE=DATE:20221107
DTSTAMP:20260425T193918
CREATED:20220718T081807Z
LAST-MODIFIED:20220718T084323Z
UID:2084-1667606400-1667779199@isccmbhubaneswar.org
SUMMARY:EZCCCON 2022
DESCRIPTION:Dear Friends\, \nBlessings from Lord Jagannath & Greetings from EZCCCON 2022\, Bhubaneswar. \nOn behalf of the Organising committee & ISCCM Bhubaneswar Branch\, it gives us immense pleasure to invite you for the Annual East Zone Critical Care Conference to be held on 5th & 6th November at Hotel Mayfair Lagoon\, Bhubaneswar. This two-day event will be an academic fiesta with lectures followed by workshops on the second day from leading experts on the most relevant topics related to intensive care. The objective is to promote new ideas and strategies which will lead to better patient care. After all\, when the right people come together in one place\, then ideas become reality. \nClick on the link to download the brochure ezcccon-2022
URL:https://isccmbhubaneswar.org/news-events/ezcccon-2022/
LOCATION:MAYFAIR LAGOON\, Bhubaneswar\, 8-B\, Jaydev Vihar\, Bhubaneswar\, ODISHA\, 751013\, India
CATEGORIES:Upcoming
ATTACH;FMTTYPE=image/png:https://isccmbhubaneswar.org/wp-content/uploads/2022/07/ezcccon-banner-2022.png
ORGANIZER;CN="ISCCM Bhubaneswar Branch":MAILTO:ezcccon2022@gmail.com
END:VEVENT
BEGIN:VEVENT
DTSTART;TZID=Asia/Kolkata:20201020T190000
DTEND;TZID=Asia/Kolkata:20201020T200000
DTSTAMP:20260425T193918
CREATED:20201020T050052Z
LAST-MODIFIED:20201112T054300Z
UID:1931-1603220400-1603224000@isccmbhubaneswar.org
SUMMARY:National ISCCM Day Celebration in Odisha
DESCRIPTION:
URL:https://isccmbhubaneswar.org/news-events/national-isccm-day-celebration-in-odisha/
LOCATION:ODISHA
CATEGORIES:Past
END:VEVENT
BEGIN:VEVENT
DTSTART;TZID=Asia/Kolkata:20181110T100000
DTEND;TZID=Asia/Kolkata:20181110T190000
DTSTAMP:20260425T193918
CREATED:20200821T045740Z
LAST-MODIFIED:20201022T035142Z
UID:1782-1541844000-1541876400@isccmbhubaneswar.org
SUMMARY:1ST ODISHA ANNUAL CRITICAL CARE CONFERENCE (OACCON)
DESCRIPTION:Theme: Critical Care Spreading to Periphery\nCritical Care in the state of Odisha has taken deep roots particularly in the twin cities of Bhubaneswar and Cuttack\, steel city of Rourkela\, VIMSAR Burla and MKCG Medical College & Hospital\, Brahmapur. A vast area of the state still remains deprived and needs to be reached. With their socio-economic status not so well\, majority of people cannot reach bigger cities and even those few who can afford\, lose valuable time during transport. Therefore there is a need to provide critical care to remote areas. This conference will bring specialists and students from all over the state for orientation in critical acre and will also provide ways and means to make critical care available closer to people’s homes. \n\n\n\n\nView Scientific Programme Details \n\n\n\n\nDownload Registration Form \n\n\n\n\nDownload Brochure
URL:https://isccmbhubaneswar.org/news-events/1st-odisha-annual-critical-care-conference-oaccon/
LOCATION:1ST ODISHA ANNUAL CRITICAL CARE CONFERENCE\, Hotel The Crown\, A1/(a)\, IRC Village\, Nayapalli\, Bhubaneswar\, Odisha\, 751015\, India
CATEGORIES:Past
END:VEVENT
BEGIN:VEVENT
DTSTART;TZID=Asia/Kolkata:20170607T200000
DTEND;TZID=Asia/Kolkata:20170607T223000
DTSTAMP:20260425T193918
CREATED:20200821T102935Z
LAST-MODIFIED:20200825T043440Z
UID:1801-1496865600-1496874600@isccmbhubaneswar.org
SUMMARY:MONTHLY ISCCM MEET
DESCRIPTION:
URL:https://isccmbhubaneswar.org/news-events/monthly-isccm-meet/
LOCATION:MONTHLY ISCCM MEET\, HOTEL THE NEW MARRION\, 6\, JANPATH\, Bhubaneswar\, Odisha\, 751001\, India
CATEGORIES:Past
END:VEVENT
BEGIN:VEVENT
DTSTART;TZID=Asia/Kolkata:20170523T080000
DTEND;TZID=Asia/Kolkata:20170523T223000
DTSTAMP:20260425T193918
CREATED:20200821T104931Z
LAST-MODIFIED:20200825T043440Z
UID:1804-1495526400-1495578600@isccmbhubaneswar.org
SUMMARY:GASTROINTESTINAL IN CRITICAL CARE
DESCRIPTION:
URL:https://isccmbhubaneswar.org/news-events/gastrointestinal-in-critical-care/
LOCATION:GASTROINTESTINAL IN CRITICAL CARE\, HOTEL SURYANSH\, P-1\, JAYADEV VIHAR\, NEAR KALINGA HOSPITAL NANDAN KANAN ROAD\, Bhubaneswar\, Odisha\, 751023\, India
CATEGORIES:Past
END:VEVENT
BEGIN:VEVENT
DTSTART;TZID=Asia/Kolkata:20170123T090000
DTEND;TZID=Asia/Kolkata:20170123T095100
DTSTAMP:20260425T193918
CREATED:20200821T112050Z
LAST-MODIFIED:20200825T043440Z
UID:1807-1485162000-1485165060@isccmbhubaneswar.org
SUMMARY:NURSING CRITICAL CARE CERTIFICATE COURSE
DESCRIPTION:In Association with:\nIndian Society of Critical Care Medicine\, Bhubaneswar Chapter & Shanti Memorial Hospital Pvt. Ltd
URL:https://isccmbhubaneswar.org/news-events/nursing-critical-care-certificate-course/
LOCATION:ODISHA
CATEGORIES:Past
END:VEVENT
BEGIN:VEVENT
DTSTART;TZID=Asia/Kolkata:20150926T080000
DTEND;TZID=Asia/Kolkata:20150927T170000
DTSTAMP:20260425T193918
CREATED:20200821T113609Z
LAST-MODIFIED:20200825T043440Z
UID:1814-1443254400-1443373200@isccmbhubaneswar.org
SUMMARY:22 ND COMPREHENSIVE CRITICAL CARE COURSE (4C)
DESCRIPTION:22 nd Comprehensive Critical Care Course (4C) at Kochi \nDate : 26 & 27 September 2015
URL:https://isccmbhubaneswar.org/news-events/22-nd-comprehensive-critical-care-course-4c/
LOCATION:ODISHA
CATEGORIES:Past
END:VEVENT
BEGIN:VEVENT
DTSTART;TZID=Asia/Kolkata:20150910T080000
DTEND;TZID=Asia/Kolkata:20150913T170000
DTSTAMP:20260425T193918
CREATED:20200821T120423Z
LAST-MODIFIED:20200825T043440Z
UID:1817-1441872000-1442163600@isccmbhubaneswar.org
SUMMARY:FIRST NORTH ZONE ISCCM CONFERENCE
DESCRIPTION:First North Zone ISCCM Conference and 13th Annual Conference of Society of Critical Care Medicine \nPre Conference – 10th & 11th September\, 2015 \nMain Conference – 12th & 13th September\, 2015
URL:https://isccmbhubaneswar.org/news-events/first-north-zone-isccm-conference/
LOCATION:ODISHA
CATEGORIES:Past
END:VEVENT
BEGIN:VEVENT
DTSTART;TZID=Asia/Kolkata:20150829T080000
DTEND;TZID=Asia/Kolkata:20150829T170000
DTSTAMP:20260425T193918
CREATED:20200821T121832Z
LAST-MODIFIED:20200825T043440Z
UID:1820-1440835200-1440867600@isccmbhubaneswar.org
SUMMARY:12TH CONGRESS OF THE WORLD FEDERATION OF SOCIETIES OF INTENSIVE AND CRITICAL CARE MEDICINE IN COLLABORATION WITH THE WFCCN AND WFPICCS
DESCRIPTION:12th Congress of the World Federation of Societies of Intensive and Critical Care Medicine. \nWorld Festival for Intensive/Critical Care Physicians and Nurses gathering in Seoul\, 2015 \nRegistration\nEarly Registration February 01\, 2015 – May 30\, 2015\nPre-Registration June 01\, 2015 – August 14\, 2015\nOnsite Registration from August 28\, 2015\nAbstract\nAbstract Submission October 1\, 2014 – March 31\, 2015\nNotification of Acceptance April 30\, 2015\nSEOUL AWARD\nScholars: 10 abstracts\nBenefit: USD 1\,000 with Certificate\nYOUNG INVESTIGATOR AWARD\nScholars: 20 investigators\nBenefit: USD 500 with Certificate\nConditions:\nApplicants who have completed Early Registration and submitted their abstract.\nAll awardees should attend the Closing Ceremony to collect rewards.\nOnly one application per participant is allowed.
URL:https://isccmbhubaneswar.org/news-events/12th-congress-of-the-world-federation-of-societies-of-intensive-and-critical-care-medicine-in-collaboration-with-the-wfccn-and-wfpiccs/
LOCATION:COEX\, COEX\, Seoul\, Seoul
CATEGORIES:Past
END:VEVENT
BEGIN:VEVENT
DTSTART;TZID=Asia/Kolkata:20150822T080000
DTEND;TZID=Asia/Kolkata:20150823T170000
DTSTAMP:20260425T193918
CREATED:20200821T122503Z
LAST-MODIFIED:20200825T043440Z
UID:1823-1440230400-1440349200@isccmbhubaneswar.org
SUMMARY:21 ST COMPREHENSIVE CRITICAL CARE COURSE (4C)
DESCRIPTION:21 st Comprehensive Critical Care Course (4C) at Coimbatore Date : 22 & 23 August 2015
URL:https://isccmbhubaneswar.org/news-events/21-st-comprehensive-critical-care-course-4c/
LOCATION:21 ST COMPREHENSIVE CRITICAL CARE COURSE (4C)\, Coimbatore\, Coimbatore\, Tamil Nadu\, India
CATEGORIES:Past
END:VEVENT
BEGIN:VEVENT
DTSTART;TZID=Asia/Kolkata:20150821T080000
DTEND;TZID=Asia/Kolkata:20150823T170000
DTSTAMP:20260425T193918
CREATED:20200821T123649Z
LAST-MODIFIED:20200825T043440Z
UID:1826-1440144000-1440349200@isccmbhubaneswar.org
SUMMARY:HYDERABAD INTENSIVE CARE SYMPOSIUM
DESCRIPTION:Hyderabad Intensive Care Symposium On 21\,22&23\,August 2015 At – The Fern Manasarovar Chiran fort\,Begumpet \,Hyderabad
URL:https://isccmbhubaneswar.org/news-events/hyderabad-intensive-care-symposium/
LOCATION:HYDERABAD INTENSIVE CARE SYMPOSIUM\, The Fern Manasarovar Chiran fort\, Begumpet\, Hyderabad\, Telangana\, India
CATEGORIES:Past
END:VEVENT
BEGIN:VEVENT
DTSTART;TZID=Asia/Kolkata:20150808T105200
DTEND;TZID=Asia/Kolkata:20150808T105200
DTSTAMP:20260425T193918
CREATED:20200821T124623Z
LAST-MODIFIED:20200825T043440Z
UID:1829-1439031120-1439031120@isccmbhubaneswar.org
SUMMARY:3 RD ANNUAL INTERNATIONAL BEST OF BRUSSELS IN PUNE
DESCRIPTION:3rd Annual International Best of Brussels symposium on Intensive Care & Emergency Medicine On – 8th -12th July 2015 Organized By : ISCCM Pune Branch & Intensive care Department of Erasme Hospital
URL:https://isccmbhubaneswar.org/news-events/3-rd-annual-international-best-of-brussels-in-pune/
LOCATION:3 RD ANNUAL INTERNATIONAL BEST OF BRUSSELS IN PUNE\, THE HYATT REGENCY HOTEL
CATEGORIES:Past
END:VEVENT
BEGIN:VEVENT
DTSTART;TZID=Asia/Kolkata:20150804T080000
DTEND;TZID=Asia/Kolkata:20150804T170000
DTSTAMP:20260425T193918
CREATED:20200821T130303Z
LAST-MODIFIED:20200825T043440Z
UID:1833-1438675200-1438707600@isccmbhubaneswar.org
SUMMARY:ULTRASOUND LIFE SUPPORT ADVANCE LEVEL 1 PROVIDER COURSE AT MEDANTA
DESCRIPTION:Ultrasound Life Support Advance Level 1 Provider Course At Medanta
URL:https://isccmbhubaneswar.org/news-events/ultrasound-life-support-advance-level-1-provider-course-at-medanta/
LOCATION:ULTRASOUND LIFE SUPPORT ADVANCE LEVEL 1 PROVIDER COURSE AT MEDANTA\, MEDANTA\, THE MEDICITY
CATEGORIES:Past
END:VEVENT
BEGIN:VEVENT
DTSTART;TZID=Asia/Kolkata:20150725T080000
DTEND;TZID=Asia/Kolkata:20150725T170000
DTSTAMP:20260425T193918
CREATED:20200822T074317Z
LAST-MODIFIED:20200825T043440Z
UID:1837-1437811200-1437843600@isccmbhubaneswar.org
SUMMARY:WEBINARS – TROPICAL INFECTIONS
DESCRIPTION:Date: July 25\, 2015 (Saturday) \nCoordinator: Dr.Dhruva Chaudhry
URL:https://isccmbhubaneswar.org/news-events/webinars-tropical-infections/
LOCATION:ODISHA
CATEGORIES:Past
END:VEVENT
BEGIN:VEVENT
DTSTART;TZID=Asia/Kolkata:20150724T105200
DTEND;TZID=Asia/Kolkata:20150725T105200
DTSTAMP:20260425T193918
CREATED:20200822T075611Z
LAST-MODIFIED:20200825T043441Z
UID:1839-1437735120-1437821520@isccmbhubaneswar.org
SUMMARY:FELLOWSHIP PREPARATORY COURSE – CHENNAI BRANCH
DESCRIPTION:Fellowship Preparatory Course CHENNAI BRANCH Date : 24th &25th July\,2015 Limited to 25 Doctors Course Fee – Rs.12\,500/-
URL:https://isccmbhubaneswar.org/news-events/fellowship-preparatory-course-chennai-branch/
LOCATION:FELLOWSHIP PREPARATORY COURSE – CHENNAI BRANCH\, D. HEMA DOOR.NO.29\, PLOT.NO.1997 J-BLOCK\, 13TH MAIN ROAD ANNA NAGAR\, India
CATEGORIES:Past
END:VEVENT
BEGIN:VEVENT
DTSTART;TZID=Asia/Kolkata:20150718T093000
DTEND;TZID=Asia/Kolkata:20150719T173000
DTSTAMP:20260425T193918
CREATED:20200822T112154Z
LAST-MODIFIED:20200825T043441Z
UID:1842-1437211800-1437327000@isccmbhubaneswar.org
SUMMARY:19 TH COMPREHENSIVE CRITICAL CARE COURSE (4C)
DESCRIPTION:19 th Comprehensive Critical Care Course (4C) at Visakhapatnam Date : 18 & 19 \,July 2015
URL:https://isccmbhubaneswar.org/news-events/19-th-comprehensive-critical-care-course-4c/
LOCATION:19 TH COMPREHENSIVE CRITICAL CARE COURSE (4C)\, VISAKHAPATNAM\, VISAKHAPATNAM\, Andhra Pradesh\, India
CATEGORIES:Past
END:VEVENT
BEGIN:VEVENT
DTSTART;TZID=Asia/Kolkata:20150718T080000
DTEND;TZID=Asia/Kolkata:20150719T170000
DTSTAMP:20260425T193918
CREATED:20200822T112936Z
LAST-MODIFIED:20200825T043549Z
UID:1845-1437206400-1437325200@isccmbhubaneswar.org
SUMMARY:20 TH COMPREHENSIVE CRITICAL CARE COURSE (4C)
DESCRIPTION:20 th Comprehensive Critical Care Course (4C) at Bareilly Date : 18th and 19th July\, 2015
URL:https://isccmbhubaneswar.org/news-events/20-th-comprehensive-critical-care-course-4c/
LOCATION:20 TH COMPREHENSIVE CRITICAL CARE COURSE (4C)\, SRMS IMS\, 13.2 KILOMETERS BAREILLY NAINITAL ROAD\, BHOJIPURA\, India
CATEGORIES:Past
END:VEVENT
BEGIN:VEVENT
DTSTART;TZID=Asia/Kolkata:20150627T140000
DTEND;TZID=Asia/Kolkata:20150627T170000
DTSTAMP:20260425T193918
CREATED:20200822T113856Z
LAST-MODIFIED:20200825T043549Z
UID:1849-1435413600-1435424400@isccmbhubaneswar.org
SUMMARY:WEBINARS – ANTIMICROBIALS: WHEN\, WHAT & HOW
DESCRIPTION:Dear all\, \nIndian College of Critical Care Medicine (ICCM)\, the academic wing of Indian Society of Critical Care Medicine has successfully organized webinars since 2012. Our earlier webinars are now available for viewing through our website www.isccm.org. \nThe first two webinars in 2015 held in April 2015 and May 2015 on Ultrasound in Critical Care and Obstetric Critical Care respectively were well appreciated. Almost 1000 centers logged in and several of them had several participants benefiting from the programs. We are now pleased to announce a 3rd Webinar in a series of Webinars in 2015. This third program will focus on “ANTIMICROBIALS: WHEN\, WHAT & HOW?” Dr N Ramakrishnan will coordinate and moderate the program which will be webcast from Apollo Hospitals\, Chennai. \nModerator:Dr N Ramakrishnan\nFaculty:\nDr N Ramakrishnan\nDr Ram Gopalakrishnan\nDr Arun Kumar Menon\nDr D. Suresh Kumar\nDr Ashwin K Mani\nDr N. Sridhar\nDr Ram E Rajagopalan \nTopics:\nOverview & Introduction\nPractical aspects of Antimicrobial therapy: PK/PD Principals\nEpidemiology & treatment of Gram Positive Infections\nEpidemiology & treatment of MDR Gram Negative Infections\nAntifungal Therapy: Indications & Choices\nDilemmas in managing culture negative sepsis\nReconsidering empiric antibiotic therapy in an era of resistance\nDiscussion \nPlease plan to join us on June 27\, 2015 (Saturday) from 2 pm to 5 pm. We are confident that this program will be of value for all practicing Intensivists\, teachers and students. We will send the links for the webcast closer to the date of the program. \nWe request you to mark your calendar for future webinars\n· July 25\, 2015 (Saturday) – Tropical infections (Coordinator: Dr Dhruva Chaudhry)
URL:https://isccmbhubaneswar.org/news-events/webinars-antimicrobials-when-what-how/
LOCATION:WEBINARS – ANTIMICROBIALS: WHEN\, WHAT & HOW\, APOLLO HOSPITALS\, India
CATEGORIES:Past
END:VEVENT
BEGIN:VEVENT
DTSTART;TZID=Asia/Kolkata:20150620T105200
DTEND;TZID=Asia/Kolkata:20150621T105200
DTSTAMP:20260425T193918
CREATED:20200822T114416Z
LAST-MODIFIED:20200825T043549Z
UID:1852-1434797520-1434883920@isccmbhubaneswar.org
SUMMARY:MECHANICAL VENTILATION WORKSHOP\, AHMEDABAD
DESCRIPTION:Mechanical Ventilation Workshop\,Organised By ISCCM Ahmedabad Branch On 20th &21th\,June 2015
URL:https://isccmbhubaneswar.org/news-events/mechanical-ventilation-workshop-ahmedabad/
LOCATION:MECHANICAL VENTILATION WORKSHOP\, AHMEDABAD\, MECHANICAL VENTILATION WORKSHOP\,ORGANISED BY ISCCM AHMEDABAD BRANCH
CATEGORIES:Past
END:VEVENT
END:VCALENDAR